BEGIN:VCALENDAR
VERSION:2.0
PRODID:-//Berks County Fire Training Committee - ECPv5.3.2.1//NONSGML v1.0//EN
CALSCALE:GREGORIAN
METHOD:PUBLISH
X-WR-CALNAME:Berks County Fire Training Committee
X-ORIGINAL-URL:https://www.berkscountyfiretraining.org
X-WR-CALDESC:Events for Berks County Fire Training Committee
BEGIN:VTIMEZONE
TZID:America/New_York
BEGIN:DAYLIGHT
TZOFFSETFROM:-0500
TZOFFSETTO:-0400
TZNAME:EDT
DTSTART:20260308T070000
END:DAYLIGHT
BEGIN:STANDARD
TZOFFSETFROM:-0400
TZOFFSETTO:-0500
TZNAME:EST
DTSTART:20261101T060000
END:STANDARD
END:VTIMEZONE
BEGIN:VEVENT
DTSTART;TZID=America/New_York:20260803T183000
DTEND;TZID=America/New_York:20260803T223000
DTSTAMP:20260419T210731
CREATED:20210118T164622Z
LAST-MODIFIED:20260419T213141Z
UID:6020-1785781800-1785796200@www.berkscountyfiretraining.org
SUMMARY:PUMP OPERATIONS I (PUOP)
DESCRIPTION:Course #\n26-PUOP-01 \nCourse Length\n16 Hrs \nLead Instructor(s)\nScot Landis \nCourse Cost\n\nIn-County: $40\nOut of County: $80\n\nCourse Goal\nThis course will introduce the student to basic concepts and methods of fire pump operations. \nCourse Description\nThis course provides the fire fighter with an introduction to basic pump construction and theory as well as operating techniques. Emphasis is placed on getting water to the pump\, getting water from the pump for hose streams\, and prevention of common mistakes in pump operations. \nPrerequisites\n\nEssentials of Fire Fighting (EBM)  (Copies of pre-requisite certificates must be sent in with registration.)\n\nSpecial Conditions\nAgencies sending students to this program will be asked to provide pumping apparatus to conduct practical exercises. \nStudent Equipment / Supply Needs\n\nPen/Pencil\nNotebook\nHelmet\, gloves\, turnout coat\, turnout pants\, boots\, protective hood\, and protective eyewear (safety glasses or goggles)
URL:https://www.berkscountyfiretraining.org/class/pump-operations-i-puop-2022-05-31/2026-08-03/
LOCATION:Berks County Fire Training Site\, 895 Morgantown Rd\, Reading\, PA\, 19607\, United States
CATEGORIES:State Certified Classes
END:VEVENT
END:VCALENDAR